BEGIN:VCALENDAR
VERSION:2.0
PRODID:-//elcheapo pdx - ECPv4.0.4//NONSGML v1.0//EN
CALSCALE:GREGORIAN
METHOD:PUBLISH
X-WR-CALNAME:elcheapo pdx
X-ORIGINAL-URL:http://elcheapopdx.com
X-WR-CALDESC:Events for elcheapo pdx
BEGIN:VEVENT
DTSTART;TZID="America/Los_Angeles":20170827T110000
DTEND;TZID="America/Los_Angeles":20170827T190000
DTSTAMP:20260425T040053
CREATED:20170716T225614
LAST-MODIFIED:20170716T225614
UID:710-1503831600-1503860400@elcheapopdx.com
SUMMARY:Hawthorne Street Fair 2017
DESCRIPTION:Come visit Portland’s original “shop local” district on Sunday\, August 27th between 11am and 7pm and explore over a hundred businesses dedicated to community involvement\, making the area a desirable place to live\, work\, and shop.\nSome of the highlights include:\n\n\tMain Music Stage at 38th Avenue\n\tKids Activities at Kids At Heart (35th Ave)\n\tBeer gardens at Bazi Bierbrasserie (32nd Ave) Growlers Hawthorne (34th Ave) and Hawthorne Hophouse (41st and Hawthorne)\n\tVendors along the street between 31st and 38th Avenues\n\nSE Hawthorne Boulevard has a long history of tradition and is known for its eclectic mix of boutiques shops\, cafes\, food carts\, bars\, restaurants and music related destinations. We continue to be a thriving community of residents\, business owners\, and visitors. We welcome you to visit our neighborhood and join the celebration!
URL:http://elcheapopdx.com/event/hawthorne-street-fair-2017/
LOCATION:Portland\, OR\, United States
CATEGORIES:Family Friendly,Festival
END:VEVENT
END:VCALENDAR