BEGIN:VCALENDAR
VERSION:2.0
PRODID:-//elcheapo pdx - ECPv4.0.4//NONSGML v1.0//EN
CALSCALE:GREGORIAN
METHOD:PUBLISH
X-WR-CALNAME:elcheapo pdx
X-ORIGINAL-URL:http://elcheapopdx.com
X-WR-CALDESC:Events for elcheapo pdx
BEGIN:VEVENT
DTSTART;VALUE=DATE:20170421
DTEND;VALUE=DATE:20170429
DTSTAMP:20260425T122923
CREATED:20170411
LAST-MODIFIED:20170411
UID:651-1492732800-1493510399@elcheapopdx.com
SUMMARY:Design Week Portland
DESCRIPTION:I am by no means a design guru or ninja but I love standing in the midst of giants if only to find out what font I should be using or how my apartment should look or just how bad my taste really is. Design Week Portland is a great opportunity to bask in the creativity and innovation happening in our city. And if you are starting a career in design or a related field - a great way to become inspired and network. The best thing about it? Most of the events (even though they require registration) are free.\n\nFind the full schedule here: https://www.designweekportland.com/events
URL:http://elcheapopdx.com/event/design-week-portland/
LOCATION:Portland\, OR\, United States
CATEGORIES:Art,Festival
END:VEVENT
END:VCALENDAR