BEGIN:VCALENDAR
VERSION:2.0
PRODID:-//elcheapo pdx - ECPv4.0.4//NONSGML v1.0//EN
CALSCALE:GREGORIAN
METHOD:PUBLISH
X-WR-CALNAME:elcheapo pdx
X-ORIGINAL-URL:http://elcheapopdx.com
X-WR-CALDESC:Events for elcheapo pdx
BEGIN:VEVENT
DTSTART;TZID="America/Los_Angeles":20170214T100000
DTEND;TZID="America/Los_Angeles":20170214T170000
DTSTAMP:20260425T163117
CREATED:20170209T062532
LAST-MODIFIED:20170209T062532
UID:627-1487066400-1487091600@elcheapopdx.com
SUMMARY:Oregon Statehood Day
DESCRIPTION:Celebrate Oregon's 158th birthday in style at the Oregon Historical Society! Join radio broadcaster Margie Boule at noon in singing “Happy Birthday” to Oregon\, then enjoy a slice of birthday cake served by former Governors Ted Kulongoski and Barbara Roberts. While you feast on cake from Gerry Frank’s Konditeri\, listen to a musical performance by the Oregon Old Time Fiddlers Association. Admission is free all day – don’t miss the chance to explore our three permanent exhibits on Oregon history\, Oregon My Oregon\, Oregon Voices\, and our newest exhibit for young Oregonians\, History Hub!
URL:http://elcheapopdx.com/event/oregon-statehood-day/
LOCATION:1200 SW Park Ave\, Portland\, OR\, 97205\, United States
CATEGORIES:Family Friendly,Festival,Music
END:VEVENT
END:VCALENDAR