BEGIN:VCALENDAR
VERSION:2.0
PRODID:-//elcheapo pdx - ECPv4.0.4//NONSGML v1.0//EN
CALSCALE:GREGORIAN
METHOD:PUBLISH
X-WR-CALNAME:elcheapo pdx
X-ORIGINAL-URL:http://elcheapopdx.com
X-WR-CALDESC:Events for elcheapo pdx
BEGIN:VEVENT
DTSTART;TZID="America/Los_Angeles":20170122T140000
DTEND;TZID="America/Los_Angeles":20170122T200000
DTSTAMP:20260425T180450
CREATED:20170105T031643
LAST-MODIFIED:20170105T031643
UID:583-1485093600-1485115200@elcheapopdx.com
SUMMARY:Crystal Ballroom's 103rd Birthday Free-For-All
DESCRIPTION:Once again the folks at Crystal Ballroom fling open their doors and invite all comers to this no-cover all-ages birthday wing-ding. With the Crystal Hotel open\, the fun covers two city blocks: music in several rooms; comedy in Al's Den; property tours; kids fun; food and drink specials; tastings of their spirits\, wine\, cocktails and beer; and of course a special birthday brew will pour throughout the properties. Make it a long weekend and get yourself a room at the Crystal Hotel!
URL:http://elcheapopdx.com/event/crystal-ballrooms-103rd-birthday-free-for-all/
LOCATION:1332 W Burnside St\, Portland\, OR\, 97209\, United States
CATEGORIES:Family Friendly,Festival,Music
END:VEVENT
END:VCALENDAR