BEGIN:VCALENDAR
VERSION:2.0
PRODID:-//elcheapo pdx - ECPv4.0.4//NONSGML v1.0//EN
CALSCALE:GREGORIAN
METHOD:PUBLISH
X-WR-CALNAME:elcheapo pdx
X-ORIGINAL-URL:http://elcheapopdx.com
X-WR-CALDESC:Events for elcheapo pdx
BEGIN:VEVENT
DTSTART;VALUE=DATE:20160917
DTEND;VALUE=DATE:20160918
DTSTAMP:20260426T003305
CREATED:20160908
LAST-MODIFIED:20160908
UID:482-1474070400-1474243199@elcheapopdx.com
SUMMARY:Polish Festival 2016
DESCRIPTION:The Polish festival is an event for families and singles\, adults and children\, for food connoisseurs\, music lovers\, concert goers\, dance enthusiasts\, … It is for everyone.\n\nDuring the festival\, we provide non-stop stage performances\, including a few dance groups and music bands\, polka contest on Saturday and Sunday\, a street dance\, delicious Polish food and imported Polish beer.\n\nThe event is held on 3900 N Failing Street between the two historic buildings of the Polish Library incorporated in 1911 and St. Stanislaus Church built in 1907\, both located on N. Interstate Avenue in Portland Oregon.\n\nSaturday\, Sept 17\, 2016 11am - 10pm\nSunday\, Sept 18\, 2016 noon - 6pm\n3900 N. Interstate Ave.\, Portland\, Oregon\n\nADMISSION FREE
URL:http://elcheapopdx.com/event/polish-festival-2016/
LOCATION:3900 N. Interstate Ave\, Portland\, OR\, United States
CATEGORIES:Family Friendly,Festival
END:VEVENT
BEGIN:VEVENT
DTSTART;TZID="America/Los_Angeles":20160917T110000
DTEND;TZID="America/Los_Angeles":20160917T140000
DTSTAMP:20260426T003305
CREATED:20160907T232808
LAST-MODIFIED:20160907T232808
UID:477-1474110000-1474120800@elcheapopdx.com
SUMMARY:Children's Book Fair: Do the Right Thing & Read!
DESCRIPTION:A free book for every kid!\n\nNorth Portland Library invites families with kids from preschool through fifth grade to the 18th Annual Children's Book Fair: Do the Right Thing and Read!\n\nJoin us for all of these fun activities:\n\n\tLive performances\n\tBookmaking\n\tButton making\n\tArt and crafts tables\n\tAnd a FREE BOOK for every child!\n\nOn the back lawn of North Portland Library.  For more information\, call North Portland Library at 503.988.5394.
URL:http://elcheapopdx.com/event/childrens-book-fair-do-the-right-thing-read/
LOCATION:512 N Killingsworth St\, Portland\, OR\, 97217\, United States
CATEGORIES:Family Friendly,Festival
END:VEVENT
END:VCALENDAR