BEGIN:VCALENDAR
VERSION:2.0
PRODID:-//elcheapo pdx - ECPv4.0.4//NONSGML v1.0//EN
CALSCALE:GREGORIAN
METHOD:PUBLISH
X-WR-CALNAME:elcheapo pdx
X-ORIGINAL-URL:http://elcheapopdx.com
X-WR-CALDESC:Events for elcheapo pdx
BEGIN:VEVENT
DTSTART;TZID="America/Los_Angeles":20160813T110000
DTEND;TZID="America/Los_Angeles":20160813T180000
DTSTAMP:20260426T020007
CREATED:20160104T003133
LAST-MODIFIED:20160217T015402
UID:94-1471086000-1471111200@elcheapopdx.com
SUMMARY:The Alberta Street Fair 2016
DESCRIPTION:The 19th Annual Alberta Street Fair is Saturday\, August 13\, 2016\, offering an eclectic mix of activities and events that could only be found on Alberta Street. The Alberta Street Fair showcases the best of the Alberta Street community. The event features entertainment\, music\, vendors\, food and drink for people of all ages.
URL:http://elcheapopdx.com/event/the-alberta-street-fair/
LOCATION:1722 NE Alberta Street\, Portland\, OR\, 97211\, United States
CATEGORIES:Art,Family Friendly,Festival
END:VEVENT
END:VCALENDAR