BEGIN:VCALENDAR
VERSION:2.0
PRODID:-//elcheapo pdx - ECPv4.0.4//NONSGML v1.0//EN
CALSCALE:GREGORIAN
METHOD:PUBLISH
X-WR-CALNAME:elcheapo pdx
X-ORIGINAL-URL:http://elcheapopdx.com
X-WR-CALDESC:Events for elcheapo pdx
BEGIN:VEVENT
DTSTART;TZID="America/Los_Angeles":20160804T180000
DTEND;TZID="America/Los_Angeles":20160807T200000
DTSTAMP:20260426T015935
CREATED:20160706T000330
LAST-MODIFIED:20160706T000330
UID:421-1470333600-1470600000@elcheapopdx.com
SUMMARY:Washington Park Summer Festival 2016
DESCRIPTION:The Washington Park Summer Festival is always a highlight of summer in Portland\, featuring amazing performances among the roses that are free to attend. Join us for four magical nights of rich cultural music\, dance\, and hands-on art activities that make the festival such a vibrant celebration of community.\n\nPerformances begin at 6:00PM in the Washington Park Rose Garden Amphitheater\nParking is very limited. Guest are encouraged to ride TriMet MAX Red or Blue lines to the Washington Park MAX Station\, and then catch bus line 63 to SW Rose Garden Blvd & Sherwood\, or the FREE Washington Park Shuttle -- which operates until 7:00PM.\n\nAugust 4th - Norman Sylvester Review Band & Friends\nAugust 5th - Portland SummerFest presents: Opera in the Park\nAugust 6th - La Peña Flamenca presents: ¡Fiesta Flamenca!\nAugust 7th - Portland Taiko
URL:http://elcheapopdx.com/event/washington-park-summer-festival-2016/
LOCATION:410 SW Kingston Ave\, Portland\, OR\, 97205\, United States
CATEGORIES:Family Friendly,Festival,Music
END:VEVENT
END:VCALENDAR