BEGIN:VCALENDAR
VERSION:2.0
PRODID:-//elcheapo pdx - ECPv4.0.4//NONSGML v1.0//EN
CALSCALE:GREGORIAN
METHOD:PUBLISH
X-WR-CALNAME:elcheapo pdx
X-ORIGINAL-URL:http://elcheapopdx.com
X-WR-CALDESC:Events for elcheapo pdx
BEGIN:VEVENT
DTSTART;VALUE=DATE:20160722
DTEND;VALUE=DATE:20160724
DTSTAMP:20260426T033614
CREATED:20160123
LAST-MODIFIED:20160123
UID:172-1469145600-1469404799@elcheapopdx.com
SUMMARY:PDX POP NOW! 2016
DESCRIPTION:The Festival is free and always all ages! We will have a beer garden on site\, all proceeds go to putting on this amazing festival! This year will be at AudioCinema underneath the Hawthorne Bridge.
URL:http://elcheapopdx.com/event/pdx-pop-now-2016/
LOCATION:226 SE Madison Street\, Portland\, OR\, 97214\, United States
CATEGORIES:Family Friendly,Festival,Music
END:VEVENT
END:VCALENDAR