BEGIN:VCALENDAR
VERSION:2.0
PRODID:-//elcheapo pdx - ECPv4.0.4//NONSGML v1.0//EN
CALSCALE:GREGORIAN
METHOD:PUBLISH
X-WR-CALNAME:elcheapo pdx
X-ORIGINAL-URL:http://elcheapopdx.com
X-WR-CALDESC:Events for elcheapo pdx
BEGIN:VEVENT
DTSTART;VALUE=DATE:20160715
DTEND;VALUE=DATE:20160716
DTSTAMP:20260426T033803
CREATED:20160124
LAST-MODIFIED:20160124
UID:198-1468540800-1468713599@elcheapopdx.com
SUMMARY:The 6th Annual LifeWise Oregon Berry Festival
DESCRIPTION:Friday\, July 15 ~ 12:00pm to 6:00pm & Saturday\, July 16 ~ 11:00am to 5:00pm\n\nThe LifeWise Oregon Berry Festival is made for berry lovers\, who know it’s summer in Oregon when the ripest\, juiciest berries start appearing perfect for making pies\, jams and other decadent treats.\n\nCome on down to the  LifeWise Oregon Berry Festival to find all the freshest Oregon berries including everything from Marionberries to Ollalieberries and the best blueberries and strawberries you will find anywhere. The festival showcases everything berry!\n\nIn addition to fresh berry vendors there will be berry products galore\, berry themed food booths\, cooking demonstrations featuring berries\, a children’s booth with berry themed crafts
URL:http://elcheapopdx.com/event/the-6th-annual-lifewise-oregon-berry-festival/
LOCATION:721 NW 9th Ave\, Portland\, OR\, 97209\, United States
CATEGORIES:Family Friendly,Festival,Food,Music
END:VEVENT
BEGIN:VEVENT
DTSTART;VALUE=DATE:20160715
DTEND;VALUE=DATE:20160717
DTSTAMP:20260426T033803
CREATED:20160217
LAST-MODIFIED:20160217
UID:272-1468540800-1468799999@elcheapopdx.com
SUMMARY:Cathedral Park Jazz Festival 2016
DESCRIPTION:The Jazz Society of Oregon proudly presents the 2016 Cathedral Park Jazz Festival. The longest running FREE Jazz festival west of the Mississippi River\, CPJF celebrates its 36th year with three days of world class music\, beginning Friday night with dynamic Blues\, R&B and Soul and continuing Saturday and Sunday with multiple styles of Jazz in all its glory.\n\nThe stage is situated in a natural amphitheater with a backdrop of the beautiful Willamette River to the west and the mighty St. John’s Bridge overhead. The lush green\, beautifully maintained festival grounds are the perfect place to bring a picnic or to purchase delicious offerings available from our food vendors. You are welcome to spread a blanket or set up low profile beach chairs in the grassy bowl in front of the stage. City regulations prohibit alcohol in the park\, however\, alcohol may be enjoyed adults 21 and over in our shady beer garden with full view of the stage.
URL:http://elcheapopdx.com/event/cathedral-park-jazz-festival-2016/
LOCATION:N Edison St & Pittsburg Ave\, Portland\, OR\, 97203\, United States
CATEGORIES:Family Friendly,Festival,Music
END:VEVENT
END:VCALENDAR