BEGIN:VCALENDAR
VERSION:2.0
PRODID:-//elcheapo pdx - ECPv4.0.4//NONSGML v1.0//EN
CALSCALE:GREGORIAN
METHOD:PUBLISH
X-WR-CALNAME:elcheapo pdx
X-ORIGINAL-URL:http://elcheapopdx.com
X-WR-CALDESC:Events for elcheapo pdx
BEGIN:VEVENT
DTSTART;TZID="America/Los_Angeles":20160226T120000
DTEND;TZID="America/Los_Angeles":20160226T130000
DTSTAMP:20260422T113747
CREATED:20160127T042352
LAST-MODIFIED:20160127T042352
UID:231-1456488000-1456491600@elcheapopdx.com
SUMMARY:Buckman Coffee Factory Public Coffee Tasting
DESCRIPTION:Experience coffee tasting by joining Buckman Coffee Factory for a cupping in a casual and fun atmosphere. You'll learn about things like coffee aroma\, flavor profiles and regional styles. Coffee lovers and food nerds of all backgrounds are encouraged to participate.
URL:http://elcheapopdx.com/event/buckman-coffee-factory-public-coffee-tasting-5/
LOCATION:1105 S.E. Main Street\, Portland\, OR\, 97214\, United States
CATEGORIES:Food
END:VEVENT
END:VCALENDAR