BEGIN:VCALENDAR
VERSION:2.0
PRODID:-//elcheapo pdx - ECPv4.0.4//NONSGML v1.0//EN
CALSCALE:GREGORIAN
METHOD:PUBLISH
X-WR-CALNAME:elcheapo pdx
X-ORIGINAL-URL:http://elcheapopdx.com
X-WR-CALDESC:Events for elcheapo pdx
BEGIN:VEVENT
DTSTART;TZID="America/Los_Angeles":20160221T203000
DTEND;TZID="America/Los_Angeles":20160221T230000
DTSTAMP:20260422T212402
CREATED:20160127T052645
LAST-MODIFIED:20160127T052730
UID:238-1456086600-1456095600@elcheapopdx.com
SUMMARY:Rontoms’ Sunday Sessions feat. Dana Bouy\, MRCH & Foreign Orange
DESCRIPTION:Every Sunday Rontoms presents free concerts featuring the best local and touring performers.\n\nFeaturing:  Dana Bouy\, MRCH\, Foreign Orange.
URL:http://elcheapopdx.com/event/rontoms-sunday-sessions-feat-dana-bouy-mrch-foreign-orange/
LOCATION:600 E. Burnside Street\, Portland\, OR\, United States
CATEGORIES:21+,Music
END:VEVENT
END:VCALENDAR