BEGIN:VCALENDAR
VERSION:2.0
PRODID:-//elcheapo pdx - ECPv4.0.4//NONSGML v1.0//EN
CALSCALE:GREGORIAN
METHOD:PUBLISH
X-WR-CALNAME:elcheapo pdx
X-ORIGINAL-URL:http://elcheapopdx.com
X-WR-CALDESC:Events for elcheapo pdx
BEGIN:VEVENT
DTSTART;TZID="America/Los_Angeles":20160220T093000
DTEND;TZID="America/Los_Angeles":20160220T150000
DTSTAMP:20260422T231510
CREATED:20160124T011635
LAST-MODIFIED:20160124T011635
UID:174-1455960600-1455980400@elcheapopdx.com
SUMMARY:Fix-It Fair
DESCRIPTION:The Fix-It Fair is a FREE City of Portland event where you can learn simple ways to save money and connect with resources. Join your neighbors and talk to the experts about how to spend less and stay healthy.\n\n¡Clases en español!
URL:http://elcheapopdx.com/event/fix-it-fair/
LOCATION:10000 N Burr Ave\, Portland\, OR\, 97203\, United States
CATEGORIES:Family Friendly,Other
END:VEVENT
END:VCALENDAR