BEGIN:VCALENDAR
VERSION:2.0
PRODID:-//elcheapo pdx - ECPv4.0.4//NONSGML v1.0//EN
CALSCALE:GREGORIAN
METHOD:PUBLISH
X-WR-CALNAME:elcheapo pdx
X-ORIGINAL-URL:http://elcheapopdx.com
X-WR-CALDESC:Events for elcheapo pdx
BEGIN:VEVENT
DTSTART;TZID="America/Los_Angeles":20160217T170000
DTEND;TZID="America/Los_Angeles":20160217T230000
DTSTAMP:20260423T044817
CREATED:20160212T025914
LAST-MODIFIED:20160212T025941
UID:264-1455728400-1455750000@elcheapopdx.com
SUMMARY:Ground Kontrol - 5 Year Anniversary Party & Special Announcement
DESCRIPTION:On February 17th 2011\, Ground Kontrol invited you to experience a fully restored\, remodeled and upgraded arcade and lounge nearly twelve years in the making. Five years later\, we’re ready to celebrate one of the biggest milestones in our history\, but that’s not all - we’ve got a very special announcement to make!\n\nJoin us on Wednesday February 17th for a night of retro revelry\, featuring happy hour all night on select beers\, extra-awesome food specials and surprise giveaways. Simply play your favorite classic game and you might win Ground Kontrol merchandise (including some exclusive one-night-only items)\, free game coins and more.\n\nAt 10pm\, take a seat in our lounge and be the first to get a glimpse at what’s in store for the future of Ground Kontrol Classic Arcade!
URL:http://elcheapopdx.com/event/ground-kontrol-5-year-anniversary-party-special-announcement/
LOCATION:511 NE Couch Street\, Portland\, OR\, 97209\, United States
CATEGORIES:21+,Other
END:VEVENT
BEGIN:VEVENT
DTSTART;TZID="America/Los_Angeles":20160217T183000
DTEND;TZID="America/Los_Angeles":20160217T210000
DTSTAMP:20260423T044817
CREATED:20160212T004655
LAST-MODIFIED:20160212T004655
UID:260-1455733800-1455742800@elcheapopdx.com
SUMMARY:Unchaste Readers: Multigenerational Voices of Black Women
DESCRIPTION:Doors open at Cerimon House at 6:30\, arrive by 6:45 to settle in with a drink and a snack. Show starts at 7:00. No tickets are necessary.\n\nThis Black History Month event is intended to honor and uplift the generations of black women who bathed us and raised us\, combed and plaited our hair and who weren't afraid to put us in our place when we needed it. We want to pay tribute to the black women who ordered us to be in the house before the street lights came on and who blessed us with momma's love\, auntie's strength and our grandmother's spirit.\n\nThis event is to acknowledge the phenomenalness\, the beauty\, the brilliance\, the passion\, the presence and the mystery of black women of all ages\, shapes\, shades and situations. On this night\, black women will not be invisible in Portland. We will be seen and we will be heard - with no apology and in safe space.\n\nFor black women\, nights like this are "a vital necessity of our existence\," as poet Audre Lorde noted. "Poetry is the way we help give name to the nameless so it can be thought. The farthest horizons of our hopes and fears are cobbled by our poems\, carved from the rock experiences of our daily lives.”\n\nCan I get an AMEN\, somebody? Join us for this unique reading at Cerimon House - because our words definitely matter\, too! And thank you to my co-curator Jenny Forrester for creating safe space for all women to speak their truth!\n\nUnchaste features poetry\, fiction\, and non-fiction. Every reader is invited to "Read Her Mind" for seven minutes.\n\nSee the website for more information about the Unchaste Readers Series:http://unchastereaders.com/wp/
URL:http://elcheapopdx.com/event/unchaste-readers-multigenerational-voices-of-black-women/
LOCATION:5131 NE 23rd Ave\, Portland\, OR\, 97211\, United States
CATEGORIES:Art
END:VEVENT
END:VCALENDAR