BEGIN:VCALENDAR
VERSION:2.0
PRODID:-//elcheapo pdx - ECPv4.0.4//NONSGML v1.0//EN
CALSCALE:GREGORIAN
METHOD:PUBLISH
X-WR-CALNAME:elcheapo pdx
X-ORIGINAL-URL:http://elcheapopdx.com
X-WR-CALDESC:Events for elcheapo pdx
BEGIN:VEVENT
DTSTART;VALUE=DATE:20160212
DTEND;VALUE=DATE:20160213
DTSTAMP:20260423T113605
CREATED:20160203
LAST-MODIFIED:20160203
UID:247-1455235200-1455407999@elcheapopdx.com
SUMMARY:Portland Night Market
DESCRIPTION:The Portland Night Market showcases the many unique & diverse businesses that call the great City of Portland home. Blending food\, culture\, music\, drinks and retail together for an adventurous evening in the Industrial District. The event allows people to meet some of Portland's best makers and creators set in the unique venue of a 100+ year old produce row warehouse. The PNM is a free event and open to all ages.\n\nFeb. 12th and 13th from 4PM - 11PM
URL:http://elcheapopdx.com/event/portland-night-market/
LOCATION:100 SE Alder Street\, Portland\, OR\, 97202\, United States
CATEGORIES:Family Friendly,Festival
END:VEVENT
BEGIN:VEVENT
DTSTART;TZID="America/Los_Angeles":20160213T100000
DTEND;TZID="America/Los_Angeles":20160213T140000
DTSTAMP:20260423T113605
CREATED:20160130T025938
LAST-MODIFIED:20160130T025938
UID:243-1455357600-1455372000@elcheapopdx.com
SUMMARY:Fanaticon: A Small Comic\, Art and Fandom Festival
DESCRIPTION:Fanaticon is a small student run comic and fandom festival presented by the East Portland Community Center Manga Studio art class.\n\nAdmission is free!\n\nFor our first year we'll be offering an exhibitors room featuring local and student artists\, comic creators and other vendors. Come by and check out the cool art on display\, buy some comics and talk with local artists!\n\nThis year our attending artists include:\n\nEPCC Manga Studio Artists!\nRick Marcks (The Words)\nThe Gorgonist (Ushala at World's End)\nBarry Deutsch (Hereville)\nJaymz Bernard (Devil Spy)\nChristine Knopp (Kikidoodle)\nGreg Smith (Junior Braves of the Apocalypse)\nJake Richmond (Modest Medusa)\nand many more!\n\nThis is an all ages show run by middle school and high school students. We appreciate your supports and attendence. please help us spread the word!
URL:http://elcheapopdx.com/event/fanaticon-a-small-comic-art-and-fandom-festival/
LOCATION:740 SE 106th Ave\, Portland\, OR\, 97216\, United States
CATEGORIES:Art,Family Friendly,Festival
END:VEVENT
BEGIN:VEVENT
DTSTART;TZID="America/Los_Angeles":20160213T110000
DTEND;TZID="America/Los_Angeles":20160213T160000
DTSTAMP:20260423T113605
CREATED:20160103T222029
LAST-MODIFIED:20160124T030811
UID:85-1455361200-1455379200@elcheapopdx.com
SUMMARY:Zwickelmania Free Oregon Brewery Tours
DESCRIPTION:Zwickelmania\, the annual one-day event in Oregon when breweries open their doors to the casual and hardcore beer fans\, lands on Feb. 13th this year — from 11 a.m. to 4 p.m. More than 110 breweries\, both big and small\, are participating with meet-the-brewer events and beer samples. For those who are planning a special Valentine’s Day trip to a place in Oregon\, visitors are invited to click on one of the seven regions of Oregon on the Zwickelmania event page to see which breweries are participating\, itineraries and maps available for the Bend\, Eugene\, Portland\, Salem and Southern Oregon areas.\n\nLast year\, more than 32\,500 people toured 115 participating breweries statewide and the Oregon Brewers Guild is expecting that number to increase in 2016.
URL:http://elcheapopdx.com/event/zwickelmania-free-oregon-brewery-tours/
LOCATION:Portland\, OR\, United States
CATEGORIES:21+,Food
END:VEVENT
END:VCALENDAR